BEGIN:VCALENDAR
VERSION:2.0
PRODID:-//Fintan Vallely//NONSGML v1.0//EN
CALSCALE:GREGORIAN
METHOD:PUBLISH
X-WR-CALNAME:Fintan Vallely
X-ORIGINAL-URL:http://imusic.ie
X-WR-CALDESC:Events for Fintan Vallely
X-WR-TIMEZONE:Europe/Dublin
BEGIN:VEVENT
DTSTART;VALUE=DATE:20130114
DTEND;VALUE=DATE:20130115
DTSTAMP:20171107T173528
CREATED:20130109T121523
LAST-MODIFIED:20130715T120338
UID:1175@http://imusic.ie
SUMMARY:The percussive impulse in Irish music, DIT (Dublin)
DESCRIPTION:  From foot percussion to bodhrán: the paradox of the percussive impulse in Irish music      Irish music does has little documented evidence of musically-significant\, 19th century or earlier percussion practices. In the 20th century the standard drum kit was used by bands\, the tambourine occurs momentarily on recordings and later\, in the 1950s\, the tambourine was formally adopted in the form of  the ‘bodhrán’\, a large-diameter frame drum. Early critics of the bodhrán cited the absence of historical references in their dismissal of the drum\, and held that Irish Traditional music did not need percussion on that account. But the fact that the bodhrán now enjoys such popularity suggests the presence of a formidable rhythmic or percussive  impulse which is unlikely to have been absent in earlier eras. Indeed\, observations of step and set dancers’ foot patterning and impact sounds suggests that percussion was ever present - provided by the participatory energy of dancers. The inverse is seen in the mimicking by older musicians  of step dance percussion with their feet while playing\, and\, too\, in  the loud\, visible keeping time with the foot done by all players still. This paper puts forward that the dancers’ foot percussion is today exercised and carried on carried on today by bodhrán players.    
LOCATION:Lower Rathmines Road
URL:http://imusic.ie/event/the-paradox-of-the-percussive-impulse-in-irish-music-illustrated-lecture-in-dit-dublin/
END:VEVENT
END:VCALENDAR