BEGIN:VCALENDAR
VERSION:2.0
PRODID:-//Fintan Vallely//NONSGML v1.0//EN
CALSCALE:GREGORIAN
METHOD:PUBLISH
X-WR-CALNAME:Fintan Vallely
X-ORIGINAL-URL:http://imusic.ie
X-WR-CALDESC:Events for Fintan Vallely
X-WR-TIMEZONE:Europe/Dublin
BEGIN:VEVENT
DTSTART;VALUE=DATE-TIME:20120717T200000
DTEND;VALUE=DATE-TIME:20120717T230000
DTSTAMP:20171107T173810
CREATED:20120125T150535
LAST-MODIFIED:20120529T152247
UID:946@http://imusic.ie
SUMMARY:Tocane, France, launch concert for The Companion
DESCRIPTION:Concert presentation for the launch of the Companion in the Perigord region of France. Held as part of Rencontre Musicale Irlandaise\, an Irish-music summer school running since 1991 in the village of Tocane St. Apre\, it takes place in the church in the village of Tocane St. Apre. With Kathleen Loughnane (harp); Eileen O'Brien\, Breda Keville\, Philippe Giraud (fiddles)\, Cormac Cannon (pipes)\, Lorcan Mac Mathúna (song)\, Gavin Whelan (whistle)\, Bryan Duggan (flute)\, Claire Keville (concertina)\, Paul Finn (accordion)\, Seamie O'Dowd (guitar)\, Paul Meehan (banjo) and others.
LOCATION:Tocane St. Apre
URL:http://imusic.ie/event/tocane-france-launch-concert-for-the-companion/
END:VEVENT
END:VCALENDAR