BEGIN:VCALENDAR
VERSION:2.0
PRODID:-//Fintan Vallely//NONSGML v1.0//EN
CALSCALE:GREGORIAN
METHOD:PUBLISH
X-WR-CALNAME:Fintan Vallely
X-ORIGINAL-URL:http://imusic.ie
X-WR-CALDESC:Events for Fintan Vallely
X-WR-TIMEZONE:Europe/Dublin
BEGIN:VEVENT
DTSTART;VALUE=DATE:20130703
DTEND;VALUE=DATE:20130704
DTSTAMP:20171107T172734
CREATED:20130515T082401
LAST-MODIFIED:20130715T121801
UID:1409@http://imusic.ie
SUMMARY:Traditional Irish music and its historical contexts - USIT at TCD, Dublin
DESCRIPTION:Didactic performance for the USIT international summer school in Trinity College. With guest musicians and dancer\, and singer Grace Toland.    Restricted concert for the school.
LOCATION:College Green
URL:http://imusic.ie/event/traditional-irish-music-and-its-historical-contexts/
END:VEVENT
END:VCALENDAR