BEGIN:VCALENDAR
VERSION:2.0
PRODID:-//Fintan Vallely//NONSGML v1.0//EN
CALSCALE:GREGORIAN
METHOD:PUBLISH
X-WR-CALNAME:Fintan Vallely
X-ORIGINAL-URL:http://imusic.ie
X-WR-CALDESC:Events for Fintan Vallely
X-WR-TIMEZONE:Europe/Dublin
BEGIN:VEVENT
DTSTART;VALUE=DATE:20130611
DTEND;VALUE=DATE:20130612
DTSTAMP:20171107T172800
CREATED:20130515T082202
LAST-MODIFIED:20130715T121829
UID:1408@http://imusic.ie
SUMMARY:Traditional Irish music - 'history in practice' concert, TCD Dublin
DESCRIPTION:Didactic performance for the Carlow College (Pittsburg) creative writers' summer school hosted by USIT in Trinity College. With guest musicians.    Restricted concert for the school.
LOCATION:College Green
URL:http://imusic.ie/event/traditional-irish-music-history-in-practice-concert/
END:VEVENT
END:VCALENDAR