BEGIN:VCALENDAR
VERSION:2.0
PRODID:-//Fintan Vallely//NONSGML v1.0//EN
CALSCALE:GREGORIAN
METHOD:PUBLISH
X-WR-CALNAME:Fintan Vallely
X-ORIGINAL-URL:http://imusic.ie
X-WR-CALDESC:Events for Fintan Vallely
X-WR-TIMEZONE:Europe/Dublin
BEGIN:VEVENT
DTSTART;VALUE=DATE:20130920
DTEND;VALUE=DATE:20130923
DTSTAMP:20171107T172550
CREATED:20130901T044532
LAST-MODIFIED:20131002T142019
UID:1539@http://imusic.ie
SUMMARY:Turning Wave Festival, Yass, NSW
DESCRIPTION:Fintan Vallely will be playing\, doing talks on Irish Traditional music and workshops in the flute and satirical song at the Turning Wave Irish Arts Festival at Yass\, New South Wales. See programme for full details.           Regrettably\, all copies of The Companion to Irish Traditional Music brought to Australia on this visit have been sold\, but copies are available post free from The Book Depository. The book is also available on Kindle and ibooks digital editions at c. half the hard-back price.
LOCATION:
URL:http://imusic.ie/event/turning-wave-festival-yass-nsw/
END:VEVENT
END:VCALENDAR