BEGIN:VCALENDAR
VERSION:2.0
PRODID:-//Fintan Vallely//NONSGML v1.0//EN
CALSCALE:GREGORIAN
METHOD:PUBLISH
X-WR-CALNAME:Fintan Vallely
X-ORIGINAL-URL:http://imusic.ie
X-WR-CALDESC:Events for Fintan Vallely
X-WR-TIMEZONE:Europe/Dublin
BEGIN:VEVENT
DTSTART;VALUE=DATE-TIME:20150701T193000
DTEND;VALUE=DATE-TIME:20150701T203000
DTSTAMP:20171107T171342
CREATED:20150607T133013
LAST-MODIFIED:20151204T114414
UID:1986@http://imusic.ie
SUMMARY:USIT International summer school  Traditional-Music concert
DESCRIPTION:    A performance of Compánach\, music selected from the writings of the encyclopedia Companion to Irish Traditional Music.     GMB\, Trinity College\, Dublin\, 7.30pm July 1st\, 2014    with    Fintan Vallely (flute\, narrative); Gerry O’Connor (fiddle); Tiarnán Ó Dinnchín (uilleann pipes); Helen Diamond (song); Anna Lethert (sean-nós dance)    This is a private concert\, but attendance from outside the summer-school group can be arranged by request
LOCATION:College Green
URL:http://imusic.ie/event/usit-international-summer-school-traditional-music-concert/
END:VEVENT
END:VCALENDAR