BEGIN:VCALENDAR
VERSION:2.0
PRODID:-//Fintan Vallely//NONSGML v1.0//EN
CALSCALE:GREGORIAN
METHOD:PUBLISH
X-WR-CALNAME:Fintan Vallely
X-ORIGINAL-URL:http://imusic.ie
X-WR-CALDESC:Events for Fintan Vallely
X-WR-TIMEZONE:Europe/Dublin
BEGIN:VEVENT
DTSTART;VALUE=DATE:20130805
DTEND;VALUE=DATE:20130813
DTSTAMP:20171107T172641
CREATED:20130725T095756
LAST-MODIFIED:20131014T140228
UID:1441@http://imusic.ie
SUMMARY:Varuna Writers' Centre residency - Katoomba, NSW, Australia
DESCRIPTION:Residency for one week in Blue Mountains\, an exchange visit done with the Irish Writers' Centre\, Dublin    
LOCATION:
URL:http://imusic.ie/event/varuna-writers-centre-residency-katoomba-nsw-australia/
END:VEVENT
END:VCALENDAR