BEGIN:VCALENDAR
VERSION:2.0
PRODID:-//Fintan Vallely//NONSGML v1.0//EN
CALSCALE:GREGORIAN
METHOD:PUBLISH
X-WR-CALNAME:Fintan Vallely
X-ORIGINAL-URL:http://imusic.ie
X-WR-CALDESC:Events for Fintan Vallely
X-WR-TIMEZONE:Europe/Dublin
BEGIN:VEVENT
DTSTART;VALUE=DATE:20141115
DTEND;VALUE=DATE:20141116
DTSTAMP:20171107T172026
CREATED:20141113T114404
LAST-MODIFIED:20141113T114404
UID:1804@http://imusic.ie
SUMMARY:Whistle workshop, at the Crescent, Belfast
DESCRIPTION:Fintan Vallely will be giving a Whistle workshop with Belfast Trad at the Crescent Centre\, Nov. 15th. Contact Fearghal Mulligan on fearghalmulligan@hotmail.com.  1pm - 5pm. Flute/whistle tutor books will be available.    2-4 University Rd\, Belfast (BT7 1NH) 028 9024 2338
LOCATION:University Road
URL:http://imusic.ie/event/whistle-workshop-at-the-crescent-belfast/
END:VEVENT
END:VCALENDAR