BEGIN:VCALENDAR
VERSION:2.0
PRODID:-//Fintan Vallely//NONSGML v1.0//EN
CALSCALE:GREGORIAN
METHOD:PUBLISH
X-WR-CALNAME:Fintan Vallely
X-ORIGINAL-URL:http://imusic.ie
X-WR-CALDESC:Events for Fintan Vallely
X-WR-TIMEZONE:Europe/Dublin
BEGIN:VEVENT
DTSTART;VALUE=DATE:20130708
DTEND;VALUE=DATE:20130714
DTSTAMP:20171107T173215
CREATED:20130416T114649
LAST-MODIFIED:20130416T114659
UID:1329@http://imusic.ie
SUMMARY:Willie Clancy Summer School - teaching and recital
DESCRIPTION:Teaching flute in workshops all week\, mornings.
LOCATION:
URL:http://imusic.ie/event/willie-clancy-summer-school-teaching-and-recital/
END:VEVENT
END:VCALENDAR